BEGIN:VCALENDAR
VERSION:2.0
PRODID:-//GPA Midstream Rocky Mountain Chapter - ECPv6.15.20//NONSGML v1.0//EN
CALSCALE:GREGORIAN
METHOD:PUBLISH
X-ORIGINAL-URL:https://gparmcmidstream.org
X-WR-CALDESC:Events for GPA Midstream Rocky Mountain Chapter
REFRESH-INTERVAL;VALUE=DURATION:PT1H
X-Robots-Tag:noindex
X-PUBLISHED-TTL:PT1H
BEGIN:VTIMEZONE
TZID:UTC
BEGIN:STANDARD
TZOFFSETFROM:+0000
TZOFFSETTO:+0000
TZNAME:UTC
DTSTART:20250101T000000
END:STANDARD
END:VTIMEZONE
BEGIN:VEVENT
DTSTART;TZID=UTC:20261002T070000
DTEND;TZID=UTC:20261002T170000
DTSTAMP:20260424T211813
CREATED:20250307T224338Z
LAST-MODIFIED:20260317T195752Z
UID:4842-1790924400-1790960400@gparmcmidstream.org
SUMMARY:Fall Golf Tournament – Save the Date
DESCRIPTION:Join us for the GPARMC Fall Golf Tournament\n\n\n\n\n\nDATE: Friday\, October 2\, 2026 \n\n\n\nTIME: 7 a.m. to 5 p.m. \n\n\n\nLOCATION: TBD \n\n\n\nThis is a Members-only Event\n\n\n\nAs a member of the GPA Midstream Rocky Mountain\, you will need to log in to your membership account to recess access to registration and to attend member-only events. \n\n\n\nLog in with your unique username and password below to receive access to registration for member-only events.
URL:https://gparmcmidstream.org/event/golf-2-save-the-date/
CATEGORIES:Fundraising Event,Member-only Event
ATTACH;FMTTYPE=image/png:https://gparmcmidstream.org/wp-content/uploads/RMGPA-Rocky-Mountain-GPA-Midstream.png
END:VEVENT
END:VCALENDAR