BEGIN:VCALENDAR
VERSION:2.0
PRODID:-//GPA Midstream Rocky Mountain Chapter - ECPv6.15.20//NONSGML v1.0//EN
CALSCALE:GREGORIAN
METHOD:PUBLISH
X-WR-CALNAME:GPA Midstream Rocky Mountain Chapter
X-ORIGINAL-URL:https://gparmcmidstream.org
X-WR-CALDESC:Events for GPA Midstream Rocky Mountain Chapter
REFRESH-INTERVAL;VALUE=DURATION:PT1H
X-Robots-Tag:noindex
X-PUBLISHED-TTL:PT1H
BEGIN:VTIMEZONE
TZID:UTC
BEGIN:STANDARD
TZOFFSETFROM:+0000
TZOFFSETTO:+0000
TZNAME:UTC
DTSTART:20220101T000000
END:STANDARD
END:VTIMEZONE
BEGIN:VEVENT
DTSTART;VALUE=DATE:20230917
DTEND;VALUE=DATE:20230921
DTSTAMP:20260425T031656
CREATED:20221206T234243Z
LAST-MODIFIED:20230613T220621Z
UID:2416-1694908800-1695254399@gparmcmidstream.org
SUMMARY:GPA National- San Antonio
DESCRIPTION:September 11\, 2025		\n\n					\n				 @ 			\n			\n				11:00 am			\n		\n									\n					 - 				\n			\n							\n					1:00 pm				\n			\n						 \n\n \n \nJoin us for our Q3 Luncheon\n \n	\n		\n			\n				\n					\n						\n	\n	\n\n						\n							Add to calendar						\n						\n	\n\n					\n					\n						\n															\n									\n										Google Calendar									\n								\n															\n									\n										iCalendar									\n								\n															\n									\n										Outlook 365									\n								\n															\n									\n										Outlook Live									\n								\n													\n					\n				\n			\n		\n	\n\n \n \nDATE: Thursday\, September 11\, 2025 \n \n \nTIME: 11 a.m. to 1 p.m. \n \n \nLOCATION: Fogo De Chao – 1513 Wynkoop St\, Denver\, CO  \n \n \nSPEAKER: Ron Miller\, Energy Industry Expert \n \n \nTOPIC: Fracking’s Impact on Energy Markets and the Environment \n \n \nDESCRIPTION: Since 2008\, an outstanding achievement in U.S. energy has occurred with barely a whisper from the news media. Electricity prices have plateaued to a very small annual growth rate\, while at the same time U.S. CO2 emissions have been on a downward trajectory. What is the reason for this monumental\, but un-noticed and un-celebrated change? In this article\, we will look at the three key positive impacts from fracking for the U.S.: 1) lower electricity price inflation rates\, 2) increased natural gas production and more stable gas pricing\, and 3) lower CO2 emissions. \n \n \nPricing\n \n \n \nMembers – $65\n \n \nNon-members – $75\n \n \nOn-site registration on September 11th is available for $85 to everyone (members and non-members). On-site registrations are space dependent and are not guaranteed a seat or a meal.\n\n \n \nKnow Before You Go\n \n \nLunch will be plated (Gluten-free or vegetarian options are available by pre-request. Contact support@gparmcmidstream.org for questions or concerns). Please make sure to register in advance\, as the venue will bill us for every meal we ask them to prepare\, so all luncheon tickets are non-refundable\, even if you do not attend. \n\n \n \n \n\n \n \nMEMBER REGISTRATION\n \n \nLog in at the bottom of this page to register at a discounted rate … or check your email for quick access to member registration. \n \n \nNON-MEMBER REGISTRATION\n \n \n>> Non-member registration here\n \n \nTo benefit from the discounted membership rate\, sign up as a member today! \n \n\n	\n	\n\n	\n		Fogo De Chao\n	\n\n	\n						\n				\n\n1513 Wynkoop Street\n	\n		\n		Denver\,\n\n	Colorado\n\n	80202\n\n\n\n\n									+ Google Map							\n		\n		\n			\n	\n	\n\n	\n\n\n\n\n	\n\n\n \n \n \n \nAbout the Speaker\n \n \nRon Miller is an energy industry expert creating value by analyzing assets\, markets\, technologies\, and power usage to identify\, monetize\, and implement profitable energy and de-carbonization projects. He is a Professional Engineer/MBA/Certified Energy Manager/Renewable Energy Professional experienced in developing and leading global energy projects in the renewable energy\, conventional power\, and fuels industries\, before founding Reliant Energy Solutions LLC. His global energy consultancy provides analysis for energy supply and demand\, energy reliability\, feasibility\, fuel and energy efficiency\, and de-carbonization. He has led energy project development at ExxonMobil\, Xcel Energy\, AECOM\, Rio Tinto\, and Newmont Corporation. Ron holds a BS in Civil Engineering from Virginia Tech and an MBA in Finance from the Terry College of Business at the University of Georgia. \n\n \n \n \n\n \n \n\n\n\n \n \nMembers Register Today!\n \n \nYou need to be logged in to view the rest of the content. Please Log In. Not a Member? Join Us
URL:https://gparmcmidstream.org/event/gpa-national-san-antonio/
LOCATION:Colorado
END:VEVENT
BEGIN:VEVENT
DTSTART;TZID=UTC:20230818T140000
DTEND;TZID=UTC:20230818T170000
DTSTAMP:20260425T031656
CREATED:20230816T132943Z
LAST-MODIFIED:20230816T133145Z
UID:3278-1692367200-1692378000@gparmcmidstream.org
SUMMARY:RMPC Adopt-A-Highway Clean Up
DESCRIPTION:September 11\, 2025		\n\n					\n				 @ 			\n			\n				11:00 am			\n		\n									\n					 - 				\n			\n							\n					1:00 pm				\n			\n						 \n\n \n \nJoin us for our Q3 Luncheon\n \n	\n		\n			\n				\n					\n						\n	\n	\n\n						\n							Add to calendar						\n						\n	\n\n					\n					\n						\n															\n									\n										Google Calendar									\n								\n															\n									\n										iCalendar									\n								\n															\n									\n										Outlook 365									\n								\n															\n									\n										Outlook Live									\n								\n													\n					\n				\n			\n		\n	\n\n \n \nDATE: Thursday\, September 11\, 2025 \n \n \nTIME: 11 a.m. to 1 p.m. \n \n \nLOCATION: Fogo De Chao – 1513 Wynkoop St\, Denver\, CO  \n \n \nSPEAKER: Ron Miller\, Energy Industry Expert \n \n \nTOPIC: Fracking’s Impact on Energy Markets and the Environment \n \n \nDESCRIPTION: Since 2008\, an outstanding achievement in U.S. energy has occurred with barely a whisper from the news media. Electricity prices have plateaued to a very small annual growth rate\, while at the same time U.S. CO2 emissions have been on a downward trajectory. What is the reason for this monumental\, but un-noticed and un-celebrated change? In this article\, we will look at the three key positive impacts from fracking for the U.S.: 1) lower electricity price inflation rates\, 2) increased natural gas production and more stable gas pricing\, and 3) lower CO2 emissions. \n \n \nPricing\n \n \n \nMembers – $65\n \n \nNon-members – $75\n \n \nOn-site registration on September 11th is available for $85 to everyone (members and non-members). On-site registrations are space dependent and are not guaranteed a seat or a meal.\n\n \n \nKnow Before You Go\n \n \nLunch will be plated (Gluten-free or vegetarian options are available by pre-request. Contact support@gparmcmidstream.org for questions or concerns). Please make sure to register in advance\, as the venue will bill us for every meal we ask them to prepare\, so all luncheon tickets are non-refundable\, even if you do not attend. \n\n \n \n \n\n \n \nMEMBER REGISTRATION\n \n \nLog in at the bottom of this page to register at a discounted rate … or check your email for quick access to member registration. \n \n \nNON-MEMBER REGISTRATION\n \n \n>> Non-member registration here\n \n \nTo benefit from the discounted membership rate\, sign up as a member today! \n \n\n	\n	\n\n	\n		Fogo De Chao\n	\n\n	\n						\n				\n\n1513 Wynkoop Street\n	\n		\n		Denver\,\n\n	Colorado\n\n	80202\n\n\n\n\n									+ Google Map							\n		\n		\n			\n	\n	\n\n	\n\n\n\n\n	\n\n\n \n \n \n \nAbout the Speaker\n \n \nRon Miller is an energy industry expert creating value by analyzing assets\, markets\, technologies\, and power usage to identify\, monetize\, and implement profitable energy and de-carbonization projects. He is a Professional Engineer/MBA/Certified Energy Manager/Renewable Energy Professional experienced in developing and leading global energy projects in the renewable energy\, conventional power\, and fuels industries\, before founding Reliant Energy Solutions LLC. His global energy consultancy provides analysis for energy supply and demand\, energy reliability\, feasibility\, fuel and energy efficiency\, and de-carbonization. He has led energy project development at ExxonMobil\, Xcel Energy\, AECOM\, Rio Tinto\, and Newmont Corporation. Ron holds a BS in Civil Engineering from Virginia Tech and an MBA in Finance from the Terry College of Business at the University of Georgia. \n\n \n \n \n\n \n \n\n\n\n \n \nMembers Register Today!\n \n \nYou need to be logged in to view the rest of the content. Please Log In. Not a Member? Join Us
URL:https://gparmcmidstream.org/event/rmpc-adopt-a-highway-clean-up/
LOCATION:Colorado
CATEGORIES:Volunteer Opportunity
ATTACH;FMTTYPE=image/png:https://gparmcmidstream.org/wp-content/uploads/GPARMC_RMCP-Adopt-A-Highway_Volunteer2023_a-1.png
END:VEVENT
END:VCALENDAR