BEGIN:VCALENDAR
VERSION:2.0
PRODID:-//GPA Midstream Rocky Mountain Chapter - ECPv6.15.20//NONSGML v1.0//EN
CALSCALE:GREGORIAN
METHOD:PUBLISH
X-WR-CALNAME:GPA Midstream Rocky Mountain Chapter
X-ORIGINAL-URL:https://gparmcmidstream.org
X-WR-CALDESC:Events for GPA Midstream Rocky Mountain Chapter
REFRESH-INTERVAL;VALUE=DURATION:PT1H
X-Robots-Tag:noindex
X-PUBLISHED-TTL:PT1H
BEGIN:VTIMEZONE
TZID:UTC
BEGIN:STANDARD
TZOFFSETFROM:+0000
TZOFFSETTO:+0000
TZNAME:UTC
DTSTART:20240101T000000
END:STANDARD
END:VTIMEZONE
BEGIN:VEVENT
DTSTART;TZID=UTC:20251107T053000
DTEND;TZID=UTC:20251107T213000
DTSTAMP:20260425T030720
CREATED:20251104T174901Z
LAST-MODIFIED:20251104T175450Z
UID:5430-1762493400-1762551000@gparmcmidstream.org
SUMMARY:Zoo Lights
DESCRIPTION:JOIN US FOR THE 6TH ANNUAL ZOO LIGHTS PREVIEW NIGHT!\n\n\n\nGPARMC is thrilled to partner with the Rocky Mountain Pipeliners Club (RMPC) for the 6th Annual Zoo Lights Preview Night. Join us for a private\, family-friendly event as we get an exclusive look at one of Denver’s most cherished holiday traditions before it opens to the general public. Bring your family and friends for an unforgettable evening of lights\, rides\, and community fun. \n\n\n\nDATE: Friday\, November 7\, 2025 \n\n\n\nLOCATION: Denver Zoo\, 2900 E 23rd Ave\, Denver\, CO 80205 \n\n\n\n\nSIGN UP FOR THIS EVENT TODAY\n\n\n\n\nSponsorship Opportunities\n\n\n\n\nCarousel Sponsors – $1\,000 (3)\n\n\n\nTrain Sponsors – $1\,000 (3)\n\n\n\nSanta Sponsors – $800 (4)\n\n\n\nPhotobooth Sponsors – $800 (4)\n\n\n\nSnack Sponsors – $750 (2)\n\n\n\nHeater Sponsors – $700 (3)\n\n\n\nGlowstick & Hand Warmer Sponsors – $500 (3)\n\n\n\n\nTicket Opportunities\n\n\n\n\n1 Non-member Ticket: $60\n\n\n\n1 Member Ticket: $45\n\n\n\n2 Member Tickets: $75 \n\n\n\n4 Member Tickets: $130\n\n\n\n10 Member Tickets: $340
URL:https://gparmcmidstream.org/event/zoo-lights/
LOCATION:Denver Zoo\, 2900 E 23rd Ave\, Denver\, Colorado\, 80205
CATEGORIES:Fundraising Event,Socials & Happy Hours
ATTACH;FMTTYPE=image/png:https://gparmcmidstream.org/wp-content/uploads/RMGPA-2025-Event-Templates-51.png
END:VEVENT
BEGIN:VEVENT
DTSTART;TZID=UTC:20251113T070000
DTEND;TZID=UTC:20251113T170000
DTSTAMP:20260425T030720
CREATED:20250307T224439Z
LAST-MODIFIED:20251110T182529Z
UID:4844-1763017200-1763053200@gparmcmidstream.org
SUMMARY:Regional Conference 2025
DESCRIPTION:Join us for the 2025 GPARMC Regional Conference\n\n\n\n\n\nDATE: Thursday\, November 13th \n\n\n\nTIME: Registration begins at 8 AM; Regional Conference starts at 8:45 AM and ends at 5:30 PM \n\n\n\nLOCATION: Denver Marriott Tech Center\, 4900 S Syracuse St\, Denver\, CO 80237 \n\n\n\nJoin us for a day packed with insightful presentations and networking opportunities. Our agenda includes 3-4 morning presentations\, a keynote lunch address\, our annual meeting\, a scholarship giveaway\, and 1-2 afternoon presentations. We’ll cap off the day with a roundtable discussion and happy hour. \n\n\n\nAll online registration will close at 11:59 PM on November 11th. \n\n\n\nKeynote Speaker:\n\n\n\n\n\n\n\nJohnny Quinn\, Former Olympian & Football Player \n\n\n\nAbout Johnny Quinn:\n\n\n\nJohnny Quinn\, a highly sought-after keynote speaker\, brings thought-provoking\, action-packed presentations that equip leaders to conquer tomorrow’s challenges head-on. Leveraging the discipline\, resilience and mental toughness that shaped his Olympic bobsled and pro football careers\, Johnny’s strategies resonate deeply with audiences\, driving real change and measurable outcomes.  \n\n\n\nOne of three athletes to play professional football (Buffalo Bills\, Green Bay Packers\, Saskatchewan Roughriders) and compete in the Winter Olympics (Sochi 2014)\, Johnny delivers dynamic presentations tailored to fit the unique needs of every audience. Whether it’s a high-energy keynote or an interactive workshop\, Johnny makes sure each message is handcrafted for maximum impact. Available for both in-person and virtual events\, he speaks directly to leadership\, resilience\, peak performance and building unstoppable teams.  \n\n\n\nJohnny’s powerful life story and actionable insights have made him a go-to speaker for organizations of all sizes. Featured by global media outlets like ABC\, BBC\, CNN\, ESPN\, FOX\, NBC\, TIME\, USA Today\, and The Wall Street Journal\, his influence extends far beyond the stage. His book\, PUSH: Breaking Through The Barriers\, takes readers on a heart-pounding journey from life’s valleys to rocketing down icy mountains at 80+ mph—with no seatbelts.  \n\n\n\nWhen he’s not inspiring audiences\, Johnny enjoys life in McKinney\, Texas\, with his wife Amanda\, and their two children\, Amelia and Oliver. For a truly transformative experience at your next event\, be sure to connect with Johnny Quinn. \n\n\n\nPricing for Attendees:\n\n\n\n\nEarly Member Registration: $150 before September 30th\n\n\n\nEarly Gold Member Registration: $135 before September 30th\n\n\n\nMid-Member Registration: $175 before October 31st\n\n\n\nMid-Gold Member Registration: $155 before October 31st\n\n\n\nLate Member Registration: $200 until November 11th\n\n\n\nLate Gold Member Registration: $180 until November 11th\n\n\n\nNon-Member Registration: $200\n\n\n\nOperator Pass (must work for operating company): $110 until November 13th\n\n\n\n\nExhibitors/Sponsorships:\n\n\n\n\nExhibitor Booths (18): $1\,800/each — Each booth sponsor will receive a booth with a power outlet\, table and chairs. Will receive 2 tickets to the event.\n\n\n\nBreakfast Sponsor (3): Sold Out — Each breakfast sponsor will receive their logo on signage and recognition at the event. Will receive 1 ticket to the event.\n\n\n\nLunch Sponsor (3): $2\,000/each – Each lunch sponsor will receive their logo on signage and recognition at the event. Will receive 2 tickets to the event.\n\n\n\nHappy Hour Sponsor (3): Sold Out — Each Happy Hour sponsor will receive their logo on signage and recognition at the event. Will receive 1 ticket to the event.\n\n\n\nKeynote Speaker Sponsor (4): $1\,250/each — Sponsor will receive their logo on signage and recognition at event. Will have reserved lunch seating for their attendee at the table with the keynote speaker. Will receive a signed copy of the keynote speaker’s book. Will receive 1 ticket to the event.\n\n\n\nBreak Sponsor (2): $500/each — Each Break sponsor will receive their logo on signage and recognition at the event.\n\n\n\nWi-Fi Sponsor (2): $500 — Each Wi-Fi sponsor will receive their logo on signage and recognition at the event.\n\n\n\nLanyard Sponsor (1): Sold Out — All the lanyards at the event will have their sponsor logo on it. They will receive recognition at the event.\n\n\n\nScholarship Recipient Sponsor (8): $750/each — Will sponsor a scholarship recipient to attend the conference. Will be introduced to scholarship recipients at the event. Will receive their sponsor logo on signage and recognition at the event. Will receive 1 ticket to the event.\n\n\n\n\nMARRIOTT HOTEL RESERVATIONS\n\n\n\nAttendees can book a hotel room for the event at special rates\, available here on an exclusive basis. \n\n\n\nOPTION TO RESERVE A ROOM HERE\n\n\n\nNON-MEMBER REGISTRATION\n\n\n\n>> Non-member registration here\n\n\n\nTo benefit from the discounted membership rate\, sign up as a member today! \n\n\n\n\n\n\n\n\n\n\n\n\n\n\n\nExecutive Panel:\n\n\n\nThe Rocky Mountain GPA is pleased to announce the Executive Roundtable for the Regional Conference. The Roundtable will be moderated by the President and CEO of GPA Midstream\, Sarah Miller. Our Roundtable will consist of Kristin Jensen\, Vice President Midstream – BPX Energy\, Daniel Seaver\, Vice President Commercial – Summit Midstream\, Bill Johnson\, Senior Vice President Midstream – P66 and Greg Floerke\, Executive Vice President and COO\, MPLX LP. Greg Floerke is also the Chairman of the Board for GPA Midstream and Bill Johnson is the Chair elect for GPA Midstream. \n\n\n\nCome hear them speak about their career paths and provide advice to people at all stages in their careers to help them make the most of their careers. The topic of the Roundtable is\, “From the Field to the Front Office – Leadership Journeys in Oil & Gas. Real Stories\, Real Advice. Insights from Industry Leaders who’ve climbed the ranks”. \n\n\n\n\n\n\n\n\n\n        \n            \n                                                \n\n                                        \n                        2025 Regional Conference2025 Regional Conference (1)2025 Regional Conference (2)2025 Regional Conference (5)2025 Regional Conference (4)                    \n\n                                    \n            \n        \n        \n\n\n\nTechnical Presentations:\n\n\n\n\nAaron Pfeifer\, Atlas OT — Why Hackers Love Midstream – and How to Fight It \n\n\n\nSjoerd Hoogwater & Eric Parvin\, P66 & Parv Consulting — ASME and API Codes: What the minimum requirements are for PSV calculations and installation reviews \n\n\n\nThomas Carpenter & Don Fennesy\, Campos — Hydrogen Blending: Engineering Overview \n\n\n\nDawn Lima\, Foss and Company Tax Credit Specialists — The Role of the Carbon Capture\, Utilization and Storage (CCUS) 45Q Tax Credit in Financing Projects \n\n\n\nWilliam Couch\, Parker — Natural Gas (and oil) Production Forecasts 2030\, 2040\, 2050 \n\n\n\nBarry Rabinovich\, MPLX — 13 Years in Midstream\, 13 Lessons Learned \n\n\n\n\nSchedule:\n\n\n\n\n8:00 – 8:45 AM – Registration/Breakfast\n\n\n\n8:45 – 9:15 AM – Speaker 1 – Why Hackers Love Midstream – and How to Fight It\n\n\n\n9:15 – 9:45 AM – Speaker 2 – Hydrogen Blending: Engineering Overview\n\n\n\n9:45 – 10:00 AM – Break/Exhibitors\n\n\n\n10:00 – 10:30 AM – The one Big Beautiful Bill\, FEOC and 45Q Tax Credits\n\n\n\n10:30 – 11:00 AM – Speaker 4 – Natural Gas (and oil) Production Forecasts 2030\, 2040\, 2050\n\n\n\n11:00 – 11:30 AM – Break/Exhibitors\n\n\n\n11:30 – 1:00 PM – Lunch / Keynote Speaker\n\n\n\n1:00 – 1:15 PM – Annual Meeting\n\n\n\n1:15 – 1:30 PM – Scholarship Presentations\n\n\n\n1:30 – 1:45 PM – Break / Exhibitors\n\n\n\n1:45 – 2:15 PM – Speaker 5 – ASME and API Codes: What the minimum requirements are for PSV calculations and installation reviews\n\n\n\n2:15 – 2:45 PM – Speaker 6 – 13 Years in Midstream\, 13 Lessons Learned\n\n\n\n2:45 – 3:00 PM – Break / Exhibitors\n\n\n\n3:00 – 4:15 PM – Panel /Roundtable\n\n\n\n4:15 – 5:30 PM – Happy Hour\n\n\n\n\nCONTACT\n\n\n\nIf you have any questions\, please contact:Tim Miller  (tmiller@atwell.com) with the GPA Midstream Rocky Mountain Chapter\n\n\n\n\n\nTHANK YOU TO OUR SPONSORS \n\n\n[slide-anything id=”5346″] \n\n\n\nMEMBER REGISTRATION
URL:https://gparmcmidstream.org/event/regional-conference-save-the-date/
LOCATION:Denver Marriott Tech Center\, 4900 S. Syracuse Street\, Denver\, 80237\, Austria
CATEGORIES:Conferences
ATTACH;FMTTYPE=image/png:https://gparmcmidstream.org/wp-content/uploads/RMGPA-2025-Event-Templates-36.png
END:VEVENT
BEGIN:VEVENT
DTSTART;TZID=UTC:20251205T170000
DTEND;TZID=UTC:20251205T220000
DTSTAMP:20260425T030720
CREATED:20240531T194230Z
LAST-MODIFIED:20251114T171534Z
UID:4219-1764954000-1764972000@gparmcmidstream.org
SUMMARY:Holiday Party
DESCRIPTION:JOIN US FOR A HOLLYWOOD HOLIDAY PARTY!\n\n\n\n\n\nDATE: December 5\, 2025 \n\n\n\nTIME: 5:00 PM – 10:00 PM \n\n\n\nLOCATION: The Studio Loft at DPAC \n\n\n\nGPARMC is thrilled to partner with the Rocky Mountain Pipeliners Club (RMPC) and Denver Energy Network for a Hollywood Holiday Party. Step into the spotlight for a glamorous night of holiday cheer and Hollywood flair. Formal attire encouraged. Sponsorships are limited\, don’t miss your chance to shine at the season’s most dazzling event! \n\n\n\n\nSIGN UP FOR THIS EVENT TODAY\n\n\n\n\nSPONSORSHIPS:\n\n\n\n\nTitle Sponsor: $5\,000 each and includes ten tickets\n\n\n\nPlatinum Sponsor: $2\,500 each and includes six tickets\n\n\n\nGold Sponsor: $1\,000 each and includes four tickets\n\n\n\nSilver Sponsor: $750 each and includes two tickets \n\n\n\nBronze Sponsor: $500 each\n\n\n\nRaffle: $250
URL:https://gparmcmidstream.org/event/holiday-party/
LOCATION:Studio Loft at DPAC\, 980 14th Street\, Denver\, Colorado
CATEGORIES:Socials & Happy Hours
ATTACH;FMTTYPE=image/png:https://gparmcmidstream.org/wp-content/uploads/RMGPA-2025-Event-Templates-63.png
END:VEVENT
BEGIN:VEVENT
DTSTART;TZID=UTC:20260220T070000
DTEND;TZID=UTC:20260220T163000
DTSTAMP:20260425T030720
CREATED:20240115T173129Z
LAST-MODIFIED:20260209T212651Z
UID:3847-1771570800-1771605000@gparmcmidstream.org
SUMMARY:Ski Train 2026 Winter Park
DESCRIPTION:Join us for the 2026 Ski Train Event!\n\n\n\nCome join us for this year’s Ski Train event. It’s a full day on the slopes\, with the Winter Express Train providing transportation to Winter Park Ski Resort and back at the end of the day. Lunch will be provided\, so more time to network and catch up with clients and friends in the industry. \n\n\n\nDATE: Friday\, February 20\, 2026 \n\n\n\nLOCATION: Winter Park Ski Resort – Union Station\, 1701 Wynkoop Street\, Denver\, CO 80202 \n\n\n\nThis is an annual favorite among GPA Midstream Rocky Mountain members. \n\n\n\n\nDownload Resort Map\n\n\n\n\n\nEvent Flyer and Waiver\n\n\n\n\n\n\n\n\n\n\n\n\n\n\n\n\n\n\n\n\nDirections\n\n\n\nUnion Station is located at 1701 Wynkoop St\, Denver\, CO 80202 with parking nearby at Union Station Parking Garage 1881 16th St\, Denver\, CO 80202. Please enter Union Station from Wynkoop for registration. \n\n\n\n\n\n\n\nEarly Registration\n\n\n\n\nAvoid the long check-in line February 20th morning\, join us for Early Registration Happy Hour Wednesday and Thursday\, February 18th & 19th from 3:00 – 6:00 pm at our local friends Waldschanke Cider & Coffee at 4100 Jason St. Denver\, CO 80211.\n\n\n\nTrivia night Thursday at 6:30 pm\, call or message Waldschanke to reserve your team.\n\n\n\n\nContact\n\n\n\nIf you have any questions\, please contact:John Cipolla (jcipolla@kahunausa.com) with the GPA Midstream Rocky Mountain Chapter \n\n\n\nThis is a Members-only Event\n\n\n\nAs a member of the GPA Midstream Rocky Mountain\, you will need to log in to your membership account to recess access to registration and to attend member-only events. \n\n\n\nLog in with your unique username and password below to receive access to registration for member-only events. \n\n\n\n\n\nParking\n\n\n\nShort term and long-term parking are available for a fee near the station. Visit Union Station Parking Garage. \n\n\n\nSki Train Event Schedule\n\n\n\nOur day starts at Union Station to board the Winter Park Express to the slopes. Please see the following timeline for the day’s events. \n\n\n\n\n5:30 – 6:45 a.m. Check in – Union Station Amtrak Platform\, embark train\n\n\n\n7:00 a.m. ALL ABOARD – Depart for Winter Park Resort\n\nCoffee and Burritos will be available.\n\n\n\n\n\n9:00 a.m. Arrive Winter Park Resort – West Portal Level 4\n\n\n\n12:00 – 1:30 p.m. Lunch – West Portal Level 4\n\n\n\n12:00 – 4:00 p.m. Open Bar – West Portal Level 4\n\n\n\n2:30 – 4:00 p.m. Après\n\n\n\n3:30 – 4:00 p.m. Re-embark train\n\n\n\n4:30 p.m. ALL ABOARD – Depart for Union Station\n\n\n\n6:30 p.m. Arrive at Union Station Amtrak Platform\n\n\n\n\nArrival & Departure Information\n\n\n\n\nTrain departs at 7 a.m.\n\n\n\nPassengers should arrive 45 minutes before departure to load ski equipment. Loading will begin at 6:15 a.m. Follow the directions of car hosts on the platform.\n\n\n\nTrain departs WP at 4:30 p.m. Passengers should line up at 4 p.m. e to prepare ski equipment for loading.\n\n\n\n\nTrain Policies\n\n\n\nAmtrak prohibits the use of personal alcohol on the train. Drinks may be purchased on the train\, if you’d like. \n\n\n\n\n\n\n\n\n\nMember Registration!\n\n\n\n\n\n\n\nGold Member Registration
URL:https://gparmcmidstream.org/event/ski-train-winter-park-event/
ATTACH;FMTTYPE=image/png:https://gparmcmidstream.org/wp-content/uploads/RMGPA-2025-Event-Templates-66.png
END:VEVENT
BEGIN:VEVENT
DTSTART;TZID=UTC:20260326T110000
DTEND;TZID=UTC:20260326T130000
DTSTAMP:20260425T030720
CREATED:20230210T170215Z
LAST-MODIFIED:20260317T192404Z
UID:2732-1774522800-1774530000@gparmcmidstream.org
SUMMARY:Q1 Luncheon
DESCRIPTION:Join Us for Our Q1 Luncheon\n\n\n\n\n\nDATE: Thursday\, March 26\, 2026 \n\n\n\nTIME: 11 a.m. to 1 p.m. \n\n\n\nLOCATION: Fogo de Chao\, 1513 Wynkoop St. Denver\, CO 80202 \n\n\n\n\n\n\n\n\n\n\n\nSPEAKER: Rick Sugden \n\n\n\nTOPIC: Colorimetric Chemical Sensors for Detecting Internal Corrosion Compounds and Inhibitor Effectiveness in Oil/Gas Pipelines \n\n\n\nPricing\n\n\n\n\nMembers – $65\n\n\n\nNon-members – $75\n\n\n\nOn-site registration on March 26th is available for $85 to everyone (members and non-members). On-site registrations are space dependent and are not guaranteed a seat or a meal.\n\n\n\n\nKnow Before You Go\n\n\n\nLunch will be plated (Gluten-free or vegetarian options are available by pre-request. Contact support@gparmcmidstream.org for questions or concerns). Please make sure to register in advance\, as the venue will bill us for every meal we ask them to prepare\, so all luncheon tickets are non-refundable\, even if you do not attend. \n\n\n\n\n\n\n\n\n\nMEMBERS\n\n\n\nLog in at the bottom of this page to register at a discounted rate … or check your email for quick access to member registration. \n\n\n\nNON-MEMBERS\n\n\n\nNON-MEMBER REGISTRATION HERE\n\n\n\nTo benefit from the discounted membership rate\, sign up as a member today! \n\n\n\n\n\n \n\n\n\n\n\nMember Registration!
URL:https://gparmcmidstream.org/event/q1-luncheon/
LOCATION:Fogo De Chao\, 1513 Wynkoop Street\, Denver\, Colorado\, 80202
CATEGORIES:Luncheon
ATTACH;FMTTYPE=image/png:https://gparmcmidstream.org/wp-content/uploads/RMGPA-Rocky-Mountain-GPA-Midstream-2.png
END:VEVENT
BEGIN:VEVENT
DTSTART;TZID=UTC:20260618T110000
DTEND;TZID=UTC:20260618T130000
DTSTAMP:20260425T030720
CREATED:20250307T223009Z
LAST-MODIFIED:20260317T200725Z
UID:4826-1781780400-1781787600@gparmcmidstream.org
SUMMARY:Q2 Luncheon – Save the Date
DESCRIPTION:Join us for our Q2 Luncheon\n\n\n\n\n\nDATE: Thursday\, June 18\, 2026 \n\n\n\nTIME: 11 a.m. to 1 p.m. \n\n\n\nLOCATION: Fogo de Chao \n\n\n\nSPEAKER:  TBD \n\n\n\nTOPIC: TBD \n\n\n\nPricing\n\n\n\n\nMembers – $65\n\n\n\nNon-members – $75\n\n\n\nOn-site registration is available for $85 to everyone (members and non-members). On-site registrations are space dependent and are not guaranteed a seat or a meal.\n\n\n\n\nKnow Before You Go\n\n\n\nLunch will be plated (Gluten-free or vegetarian options are available by pre-request. Contact support@gparmcmidstream.org for questions or concerns). Please make sure to register in advance\, as the venue will bill us for every meal we ask them to prepare\, so all luncheon tickets are non-refundable\, even if you do not attend.
URL:https://gparmcmidstream.org/event/q2-luncheon-save-the-date/
LOCATION:Fogo De Chao\, 1513 Wynkoop Street\, Denver\, Colorado\, 80202
CATEGORIES:Luncheon
ATTACH;FMTTYPE=image/png:https://gparmcmidstream.org/wp-content/uploads/q2-16.png
END:VEVENT
BEGIN:VEVENT
DTSTART;TZID=UTC:20260619T080000
DTEND;TZID=UTC:20260619T170000
DTSTAMP:20260425T030720
CREATED:20221206T234137Z
LAST-MODIFIED:20260421T215704Z
UID:2413-1781856000-1781888400@gparmcmidstream.org
SUMMARY:Annual Scholarship Golf Tournament
DESCRIPTION:Join us for the GPARMC Annual Scholarship Golf Tournament!\n\n\n\n\n\nDATE: Friday\, June 19th\, 2026 \n\n\n\nLOCATION: RainDance Golf Course\, 1775 RainDance National Dr\, Windsor\, CO 80550. \n\n\n\n\n\n\n\n\n\n\n\n\n\n\n\nDETAILS\n\n\n\nRegistration will be at 6:30am MST. Shotgun start at 7:30am MST. \n\n\n\nDoor prizes will be given out during lunch. Donated door prizes would be greatly appreciated and will be recognized by the generous vendors with business cards being attached. \n\n\n\nRaffle tickets will be distributed at registration. Each player shall receive one raffle ticket. There will be no additional raffle tickets sold at the tournament. \n\n\n\nAll event proceeds will go to the GPA Rocky Mountain Chapter Training and Scholarship Programs! \n\n\n\nQUESTIONS: Contact Jordan Smith \n\n\n\n\n\nThis is a Members Only Event\n\n\n\nAs a member of the GPA Midstream Rocky Mountain\, you will need to log in to your membership account to recess access to registration and to attend member-only events. \n\n\n\nLog in with your unique username and password below to receive access to registration for member-only events. \n\n\n\n\n\nSponsorships & Teams\n\n\n\n\n\nMay 29th is the deadline for sponsors to have their logos included in printed signage. \n\n\n\nTeam Foursome $1\,200 Mulligan (Individual) $5 – Maximum 5 Mulligans per teamMulligan (Set of 5) $20 – Maximum 5 Mulligans per teamRaffle Tickets – $20 for 1 ticketRaffle Tickets – $100 for 6 tickets \n\n\n\nBreakfast/Lunch Sponsor $3\,000 – Includes (1) foursome; special recognition as major sponsor; booth set-up w/table on the golf course; special recognition and signage at registration\, lunch\, and Thursday luncheon \n\n\n\nAlbatross Hole Sponsor $2\,500 – Includes (1) foursome; can provide alcohol on course (must purchase 1 week in advance through Raindance); booth set-up w/table on the golf course; special recognition and signage at registration\, lunch\, and Thursday luncheon \n\n\n\nEagle Sponsor $2\,500 – Includes (1) foursome; booth set-up with table on the golf course; special recognition and signage at registration\, lunch\, and Thursday luncheon \n\n\n\n9 Hole Flag Sponsor $2\,500 – Includes (1) foursome; includes 9 custom flags; logo on sponsor banner at registration\, lunch\, and Thursday luncheon \n\n\n\nGolf Cart Sponsor $1\,750 – Includes (1) foursome; includes company logo on golf carts; logo on sponsor banner at registration\, lunch\, and Thursday luncheon \n\n\n\nCart Path Sponsor $1\,750 – Includes (1) foursome; includes company logo on cart path signs (1 per hole); logo on sponsor banner at registration\, lunch\, and Thursday luncheon \n\n\n\n\n\nPar Sponsor $1\,500 – Includes (1) foursome; tee box signage on one par sponsorship hole; special recognition and signage at registration\, lunch\, and Thursday luncheon \n\n\n\nBeverage Cart Sponsor $1\,500 – Includes (1) foursome; includes company logo on beverage carts; logo on sponsor banner at registration\, lunch\, and Thursday luncheon \n\n\n\nCommemorative Photo Sponsor $1\,000– Includes company logo on all team photos; logo on sponsor banner at registration\, lunch\, and Thursday luncheon \n\n\n\nTrophy Sponsor $1\,000 – Logo on trophies presented to 1st\, 2nd and 3rd place on each course; logo on sponsor banner at registration\, lunch\, and Thursday luncheon \n\n\n\nDriving Range & Putting Green Sponsor $750– Includes company logo on range or putting green; logo on sponsor banner at registration\, lunch\, and Thursday luncheon \n\n\n\nHydration Station Sponsor $750– Custom signage at water station (1 available at hole 7\, 1 available at hole 15); logo on sponsor banner at registration\, lunch\, and Thursday luncheon \n\n\n\nBag Drop Sponsor $750– Custom signage at bag drop location; logo on sponsor banner at registration\, lunch\, and Thursday luncheon \n\n\n\nCigar Sponsor $750 – Sponsor to provide cigars; logo on cigar cart\, logo on sponsor banner at registration\, lunch\, and Thursday luncheon \n\n\n\n\n\nMEMBER REGISTRATION
URL:https://gparmcmidstream.org/event/golf-1-raindance/
LOCATION:RainDance National Golf Course\, 1775 RainDance National Drive\, Windsor\, Colorado\, 80550
CATEGORIES:Fundraising Event
ATTACH;FMTTYPE=image/png:https://gparmcmidstream.org/wp-content/uploads/RMGPA-Rocky-Mountain-GPA-Midstream-3.png
END:VEVENT
BEGIN:VEVENT
DTSTART;TZID=UTC:20260910T110000
DTEND;TZID=UTC:20260910T130000
DTSTAMP:20260425T030720
CREATED:20250307T223904Z
LAST-MODIFIED:20260317T201508Z
UID:4837-1789038000-1789045200@gparmcmidstream.org
SUMMARY:Q3 Luncheon – Save the Date
DESCRIPTION:Join us for our Q3 Luncheon\n\n\n\n\n\nDATE: Thursday\, September 10\, 2026 \n\n\n\nTIME: 11 a.m. to 1 p.m. \n\n\n\nLOCATION: Fogo de Chao \n\n\n\nSPEAKER:  TBD \n\n\n\nTOPIC: TBD \n\n\n\nPricing\n\n\n\n\nMembers – $65\n\n\n\nNon-members – $75\n\n\n\nOn-site registration is available for $85 to everyone (members and non-members). On-site registrations are space dependent and are not guaranteed a seat or a meal.\n\n\n\n\nKnow Before You Go\n\n\n\nLunch will be plated (Gluten-free or vegetarian options are available by pre-request. Contact support@gparmcmidstream.org for questions or concerns). Please make sure to register in advance\, as the venue will bill us for every meal we ask them to prepare\, so all luncheon tickets are non-refundable\, even if you do not attend.
URL:https://gparmcmidstream.org/event/q3-luncheon-save-the-date/
LOCATION:Fogo De Chao\, 1513 Wynkoop Street\, Denver\, Colorado\, 80202
CATEGORIES:Luncheon
ATTACH;FMTTYPE=image/png:https://gparmcmidstream.org/wp-content/uploads/q3-4.png
END:VEVENT
BEGIN:VEVENT
DTSTART;TZID=UTC:20260911T070000
DTEND;TZID=UTC:20260911T170000
DTSTAMP:20260425T030720
CREATED:20260123T202942Z
LAST-MODIFIED:20260317T202156Z
UID:5882-1789110000-1789146000@gparmcmidstream.org
SUMMARY:Clay Shoot – Save the Date
DESCRIPTION:Join us for the GPARMC Annual Clay Shoot\n\n\n\n\n\nDATE: Friday\, September 11\, 2026 \n\n\n\nTIME: 7 a.m. to 5 p.m. \n\n\n\nLOCATION: Longmeadow Clays Club \n\n\n\nThis is a Members-only Event\n\n\n\nAs a member of the GPA Midstream Rocky Mountain\, you will need to log in to your membership account to recess access to registration and to attend member-only events. \n\n\n\nLog in with your unique username and password below to receive access to registration for member-only events.
URL:https://gparmcmidstream.org/event/clay-shoot-save-the-date/
LOCATION:Longmeadow Event Center\, 8604 Co Rd 6\, Wiggins\, Colorado\, 80654
CATEGORIES:Fundraising Event,Member-only Event
ATTACH;FMTTYPE=image/png:https://gparmcmidstream.org/wp-content/uploads/RMGPA-Rocky-Mountain-GPA-Midstream-4.png
END:VEVENT
BEGIN:VEVENT
DTSTART;TZID=UTC:20261002T070000
DTEND;TZID=UTC:20261002T170000
DTSTAMP:20260425T030720
CREATED:20250307T224338Z
LAST-MODIFIED:20260317T195752Z
UID:4842-1790924400-1790960400@gparmcmidstream.org
SUMMARY:Fall Golf Tournament – Save the Date
DESCRIPTION:Join us for the GPARMC Fall Golf Tournament\n\n\n\n\n\nDATE: Friday\, October 2\, 2026 \n\n\n\nTIME: 7 a.m. to 5 p.m. \n\n\n\nLOCATION: TBD \n\n\n\nThis is a Members-only Event\n\n\n\nAs a member of the GPA Midstream Rocky Mountain\, you will need to log in to your membership account to recess access to registration and to attend member-only events. \n\n\n\nLog in with your unique username and password below to receive access to registration for member-only events.
URL:https://gparmcmidstream.org/event/golf-2-save-the-date/
CATEGORIES:Fundraising Event,Member-only Event
ATTACH;FMTTYPE=image/png:https://gparmcmidstream.org/wp-content/uploads/RMGPA-Rocky-Mountain-GPA-Midstream.png
END:VEVENT
BEGIN:VEVENT
DTSTART;TZID=UTC:20261105T070000
DTEND;TZID=UTC:20261105T170000
DTSTAMP:20260425T030720
CREATED:20260123T203323Z
LAST-MODIFIED:20260317T203058Z
UID:5885-1793862000-1793898000@gparmcmidstream.org
SUMMARY:Regional Conference – Save the Date
DESCRIPTION:Join us for the GPARMC Regional Conference\n\n\n\n\n\nDATE: Thursday\, November 5\, 2026 \n\n\n\nTIME: TBD \n\n\n\nLOCATION: Marriott Denver Tech Center \n\n\n\nAs a member of the GPA Midstream Rocky Mountain\, you will need to log in to your membership account to recess access to registration and to attend member-only events. \n\n\n\nLog in with your unique username and password below to receive access to registration for member-only events.
URL:https://gparmcmidstream.org/event/regional-conference-save-the-date-2/
LOCATION:Denver Marriott Tech Center\, 4900 S. Syracuse Street\, Denver\, 80237\, Austria
CATEGORIES:Fundraising Event,Member-only Event
ATTACH;FMTTYPE=image/png:https://gparmcmidstream.org/wp-content/uploads/RMGPA-Rocky-Mountain-GPA-Midstream-6.png
END:VEVENT
BEGIN:VEVENT
DTSTART;TZID=UTC:20261105T070000
DTEND;TZID=UTC:20261105T170000
DTSTAMP:20260425T030720
CREATED:20260123T203808Z
LAST-MODIFIED:20260317T205006Z
UID:5888-1793862000-1793898000@gparmcmidstream.org
SUMMARY:Zoo Lights – Save the Date
DESCRIPTION:Join us for the GPARMC Zoo Lights Preview Night\n\n\n\n\n\nDATE: November 2026 \n\n\n\nTIME: TBD \n\n\n\nLOCATION: Denver Zoo \n\n\n\nAs a member of the GPA Midstream Rocky Mountain\, you will need to log in to your membership account to recess access to registration and to attend member-only events. \n\n\n\nLog in with your unique username and password below to receive access to registration for member-only events.
URL:https://gparmcmidstream.org/event/zoo-lights-save-the-date/
CATEGORIES:Fundraising Event,Member-only Event
ATTACH;FMTTYPE=image/png:https://gparmcmidstream.org/wp-content/uploads/RMGPA-Rocky-Mountain-GPA-Midstream-5.png
END:VEVENT
END:VCALENDAR