BEGIN:VCALENDAR
VERSION:2.0
PRODID:-//GPA Midstream Rocky Mountain Chapter - ECPv6.15.20//NONSGML v1.0//EN
CALSCALE:GREGORIAN
METHOD:PUBLISH
X-ORIGINAL-URL:https://gparmcmidstream.org
X-WR-CALDESC:Events for GPA Midstream Rocky Mountain Chapter
REFRESH-INTERVAL;VALUE=DURATION:PT1H
X-Robots-Tag:noindex
X-PUBLISHED-TTL:PT1H
BEGIN:VTIMEZONE
TZID:UTC
BEGIN:STANDARD
TZOFFSETFROM:+0000
TZOFFSETTO:+0000
TZNAME:UTC
DTSTART:20240101T000000
END:STANDARD
END:VTIMEZONE
BEGIN:VEVENT
DTSTART;TZID=UTC:20250812T120000
DTEND;TZID=UTC:20250812T160000
DTSTAMP:20260425T030526
CREATED:20230613T220018Z
LAST-MODIFIED:20250917T160419Z
UID:3170-1755000000-1755014400@gparmcmidstream.org
SUMMARY:Q3 Training
DESCRIPTION:JOIN US FOR OUR SECOND TRAINING OF 2025\n\n\n\n\n\nDATE: Tuesday\, August 12\, 2025 \n\n\n\nTIME: Noon – 4:00 PM \n\n\n\nLOCATION: UECompression\, 9461 Willow CtHenderson\, Colorado 80640 \n\n\n\nTOPIC: Reciprocating Compressors with UECompression & Ariel \n\n\n\n\n\n\n\n\n\n\n\n\n\n\n\n\n\n        \n            \n                                                \n\n                                        \n                        RMGPA Training Pictures (3)RMGPA Training Pictures (1)RMGPA Training Pictures (2)RMGPA Training Pictures                    \n\n                                    \n            \n        \n        \n\n\n\n\n\n\n\n\n\nPricing\n\n\n\n\nMember/Non-member – $20\n\n\n\nGold & Silver Corporate Member Owner/Operator – FREE\n\n\n\n\nNotes\n\n\n\n\nLunch and drinks will be provided\n\n\n\n\n\n\n\n\n\n\n\n\n\n\n\n\n\n\nWe’re excited to announce an upcoming 2nd RMGPA technical training session on reciprocating compressors\, hosted in partnership with UECompression and Ariel Corporation\, two leaders in compression technology. \n\n\n\nTraining Overview\n\n\n\nThis hands-on session is designed to deepen your understanding of reciprocating compressor operation\, maintenance\, and troubleshooting\, with direct insight from experts at UEC and Ariel. \n\n\n\n\n\nTraining Highlights\n\n\n\n\nCompressor fundamentals and components\n\n\n\nAriel-specific design and engineering features\n\n\n\nUECompression’s packaging\, integration\, and support approach\n\n\n\nTroubleshooting and maintenance best practices\n\n\n\nQ&A with field experts\n\n\n\n\nWho Should Attend\n\n\n\n\nOperations & Maintenance personnel\n\n\n\nField Technicians\n\n\n\nEngineers\n\n\n\nAnyone working with or supporting compression systems\n\n\n\n\n\n\nRegister Today!
URL:https://gparmcmidstream.org/event/q2-training/
LOCATION:UECompression\, 9461 Willow Ct\, Henderson\, Colorado\, 80640
CATEGORIES:Training
ATTACH;FMTTYPE=image/png:https://gparmcmidstream.org/wp-content/uploads/Q2-10.png
END:VEVENT
END:VCALENDAR