BEGIN:VCALENDAR
VERSION:2.0
PRODID:-//GPA Midstream Rocky Mountain Chapter - ECPv6.15.20//NONSGML v1.0//EN
CALSCALE:GREGORIAN
METHOD:PUBLISH
X-WR-CALNAME:GPA Midstream Rocky Mountain Chapter
X-ORIGINAL-URL:https://gparmcmidstream.org
X-WR-CALDESC:Events for GPA Midstream Rocky Mountain Chapter
REFRESH-INTERVAL;VALUE=DURATION:PT1H
X-Robots-Tag:noindex
X-PUBLISHED-TTL:PT1H
BEGIN:VTIMEZONE
TZID:UTC
BEGIN:STANDARD
TZOFFSETFROM:+0000
TZOFFSETTO:+0000
TZNAME:UTC
DTSTART:20220101T000000
END:STANDARD
END:VTIMEZONE
BEGIN:VEVENT
DTSTART;TZID=UTC:20251205T170000
DTEND;TZID=UTC:20251205T220000
DTSTAMP:20260424T155445
CREATED:20240531T194230Z
LAST-MODIFIED:20251114T171534Z
UID:4219-1764954000-1764972000@gparmcmidstream.org
SUMMARY:Holiday Party
DESCRIPTION:JOIN US FOR A HOLLYWOOD HOLIDAY PARTY!\n\n\n\n\n\nDATE: December 5\, 2025 \n\n\n\nTIME: 5:00 PM – 10:00 PM \n\n\n\nLOCATION: The Studio Loft at DPAC \n\n\n\nGPARMC is thrilled to partner with the Rocky Mountain Pipeliners Club (RMPC) and Denver Energy Network for a Hollywood Holiday Party. Step into the spotlight for a glamorous night of holiday cheer and Hollywood flair. Formal attire encouraged. Sponsorships are limited\, don’t miss your chance to shine at the season’s most dazzling event! \n\n\n\n\nSIGN UP FOR THIS EVENT TODAY\n\n\n\n\nSPONSORSHIPS:\n\n\n\n\nTitle Sponsor: $5\,000 each and includes ten tickets\n\n\n\nPlatinum Sponsor: $2\,500 each and includes six tickets\n\n\n\nGold Sponsor: $1\,000 each and includes four tickets\n\n\n\nSilver Sponsor: $750 each and includes two tickets \n\n\n\nBronze Sponsor: $500 each\n\n\n\nRaffle: $250
URL:https://gparmcmidstream.org/event/holiday-party/
LOCATION:Studio Loft at DPAC\, 980 14th Street\, Denver\, Colorado
CATEGORIES:Socials & Happy Hours
ATTACH;FMTTYPE=image/png:https://gparmcmidstream.org/wp-content/uploads/RMGPA-2025-Event-Templates-63.png
END:VEVENT
BEGIN:VEVENT
DTSTART;TZID=UTC:20251107T053000
DTEND;TZID=UTC:20251107T213000
DTSTAMP:20260424T155445
CREATED:20251104T174901Z
LAST-MODIFIED:20251104T175450Z
UID:5430-1762493400-1762551000@gparmcmidstream.org
SUMMARY:Zoo Lights
DESCRIPTION:JOIN US FOR THE 6TH ANNUAL ZOO LIGHTS PREVIEW NIGHT!\n\n\n\nGPARMC is thrilled to partner with the Rocky Mountain Pipeliners Club (RMPC) for the 6th Annual Zoo Lights Preview Night. Join us for a private\, family-friendly event as we get an exclusive look at one of Denver’s most cherished holiday traditions before it opens to the general public. Bring your family and friends for an unforgettable evening of lights\, rides\, and community fun. \n\n\n\nDATE: Friday\, November 7\, 2025 \n\n\n\nLOCATION: Denver Zoo\, 2900 E 23rd Ave\, Denver\, CO 80205 \n\n\n\n\nSIGN UP FOR THIS EVENT TODAY\n\n\n\n\nSponsorship Opportunities\n\n\n\n\nCarousel Sponsors – $1\,000 (3)\n\n\n\nTrain Sponsors – $1\,000 (3)\n\n\n\nSanta Sponsors – $800 (4)\n\n\n\nPhotobooth Sponsors – $800 (4)\n\n\n\nSnack Sponsors – $750 (2)\n\n\n\nHeater Sponsors – $700 (3)\n\n\n\nGlowstick & Hand Warmer Sponsors – $500 (3)\n\n\n\n\nTicket Opportunities\n\n\n\n\n1 Non-member Ticket: $60\n\n\n\n1 Member Ticket: $45\n\n\n\n2 Member Tickets: $75 \n\n\n\n4 Member Tickets: $130\n\n\n\n10 Member Tickets: $340
URL:https://gparmcmidstream.org/event/zoo-lights/
LOCATION:Denver Zoo\, 2900 E 23rd Ave\, Denver\, Colorado\, 80205
CATEGORIES:Fundraising Event,Socials & Happy Hours
ATTACH;FMTTYPE=image/png:https://gparmcmidstream.org/wp-content/uploads/RMGPA-2025-Event-Templates-51.png
END:VEVENT
BEGIN:VEVENT
DTSTART;TZID=UTC:20250922T170000
DTEND;TZID=UTC:20250922T190000
DTSTAMP:20260424T155445
CREATED:20250819T152124Z
LAST-MODIFIED:20250819T152651Z
UID:5256-1758560400-1758567600@gparmcmidstream.org
SUMMARY:GPA Midstream National Convention Happy Hour
DESCRIPTION:JOIN US FOR HAPPY HOUR AT THE 2025 GPA MIDSTREAM NATIONAL CONVENTION\n\n\n\n\n\nDATE: Monday\, September 22\, 2025 \n\n\n\nWHEN: 5:00 PM – 7:00 PM \n\n\n\nLOCATION: Fogo de Chão Brazilian Steakhouse\, 849 E Commerce St #393\, San Antonio\, TX 78205 \n\n\n\n\n\n\n\n\n\n\n\n\n\nRegister Today!\n\n\n\nThis event is open to Members and Non-Members.
URL:https://gparmcmidstream.org/event/gpa-midstream-national-convention-happy-hour/
LOCATION:Fogo de Chão Brazilian Steakhouse\, 849 E Commerce St #393\, San Antonio\, TX\, 78205\, United States
CATEGORIES:Conferences,Socials & Happy Hours
ATTACH;FMTTYPE=image/png:https://gparmcmidstream.org/wp-content/uploads/RMGPA-2025-Event-Templates-34.png
END:VEVENT
BEGIN:VEVENT
DTSTART;TZID=UTC:20240328T160000
DTEND;TZID=UTC:20240328T180000
DTSTAMP:20260424T155445
CREATED:20230509T165015Z
LAST-MODIFIED:20240322T133510Z
UID:3070-1711641600-1711648800@gparmcmidstream.org
SUMMARY:GPARMC Happy Hour – Peaks Lounge
DESCRIPTION:Join Us for Our March Happy Hour\n\n\n\nJoin the GPA Midstream Rocky Mountain Chapter on Thursday March 28th at 4 p.m. at the Peaks Lounge for our March Happy Hour.  \n\n\n\nDATE: Thursday\, March 28\, 2024 \n\n\n\nTIME: 4 p.m. – 6 p.m. \n\n\n\nLOCATION: Denver Hyatt Convention Center – Peaks Lounge\, 650 15th St. 27th Floor\, Denver\, CO 80202 \n\n\n\nPricing\n\n\n\n\nTicket – $10\n\n\n\nOwners/Operators – $0\n\n\n\n\n\n\n\n\n\n\n\n\n\n\n\n\nThank you to our sponsors!\n\n\n[slide-anything id=”4083″] \n\n\n\nRegister Now!
URL:https://gparmcmidstream.org/event/gparmc-happy-hour-peaks-lounge/
LOCATION:Denver Hyatt Convention Center – Peaks Lounge\, 650 15th St. 27th Floor\, Denver\, Colorado\, 80202\, United States
CATEGORIES:Socials & Happy Hours
ATTACH;FMTTYPE=image/png:https://gparmcmidstream.org/wp-content/uploads/GPARMC-Happy-Hour-2.png
END:VEVENT
BEGIN:VEVENT
DTSTART;TZID=UTC:20231109T173000
DTEND;TZID=UTC:20231109T213000
DTSTAMP:20260424T155445
CREATED:20231017T180841Z
LAST-MODIFIED:20231017T181012Z
UID:3697-1699551000-1699565400@gparmcmidstream.org
SUMMARY:32nd Annual Denver Zoo Lights Preview Night
DESCRIPTION:Join us for the 32nd Annual Denver Zoo Lights Preview Night!\n\n\n \nDATE: Thursday\, November 9th \n\n\n \nTIME: 5:30 PM – 9:30 PM \n\n\n \nPLACE: Denver Zoo\, 2300 Steele Street\, Denver\, CO 80205 \n\n>> BUY TICKETS & SPONSORSHIPS
URL:https://gparmcmidstream.org/event/32nd-annual-denver-zoo-lights-preview-night/
LOCATION:Denver Zoo\, 2300 Steele St.\, Denver\, CO\, 80205\, United States
CATEGORIES:Socials & Happy Hours
ATTACH;FMTTYPE=image/png:https://gparmcmidstream.org/wp-content/uploads/GPARMC_32ndDenverZooLights_10162023_B.png
END:VEVENT
END:VCALENDAR