BEGIN:VCALENDAR
VERSION:2.0
PRODID:-//GPA Midstream Rocky Mountain Chapter - ECPv6.15.20//NONSGML v1.0//EN
CALSCALE:GREGORIAN
METHOD:PUBLISH
X-WR-CALNAME:GPA Midstream Rocky Mountain Chapter
X-ORIGINAL-URL:https://gparmcmidstream.org
X-WR-CALDESC:Events for GPA Midstream Rocky Mountain Chapter
REFRESH-INTERVAL;VALUE=DURATION:PT1H
X-Robots-Tag:noindex
X-PUBLISHED-TTL:PT1H
BEGIN:VTIMEZONE
TZID:UTC
BEGIN:STANDARD
TZOFFSETFROM:+0000
TZOFFSETTO:+0000
TZNAME:UTC
DTSTART:20240101T000000
END:STANDARD
END:VTIMEZONE
BEGIN:VEVENT
DTSTART;TZID=UTC:20260326T110000
DTEND;TZID=UTC:20260326T130000
DTSTAMP:20260424T155320
CREATED:20230210T170215Z
LAST-MODIFIED:20260317T192404Z
UID:2732-1774522800-1774530000@gparmcmidstream.org
SUMMARY:Q1 Luncheon
DESCRIPTION:Join Us for Our Q1 Luncheon\n\n\n\n\n\nDATE: Thursday\, March 26\, 2026 \n\n\n\nTIME: 11 a.m. to 1 p.m. \n\n\n\nLOCATION: Fogo de Chao\, 1513 Wynkoop St. Denver\, CO 80202 \n\n\n\n\n\n\n\n\n\n\n\nSPEAKER: Rick Sugden \n\n\n\nTOPIC: Colorimetric Chemical Sensors for Detecting Internal Corrosion Compounds and Inhibitor Effectiveness in Oil/Gas Pipelines \n\n\n\nPricing\n\n\n\n\nMembers – $65\n\n\n\nNon-members – $75\n\n\n\nOn-site registration on March 26th is available for $85 to everyone (members and non-members). On-site registrations are space dependent and are not guaranteed a seat or a meal.\n\n\n\n\nKnow Before You Go\n\n\n\nLunch will be plated (Gluten-free or vegetarian options are available by pre-request. Contact support@gparmcmidstream.org for questions or concerns). Please make sure to register in advance\, as the venue will bill us for every meal we ask them to prepare\, so all luncheon tickets are non-refundable\, even if you do not attend. \n\n\n\n\n\n\n\n\n\nMEMBERS\n\n\n\nLog in at the bottom of this page to register at a discounted rate … or check your email for quick access to member registration. \n\n\n\nNON-MEMBERS\n\n\n\nNON-MEMBER REGISTRATION HERE\n\n\n\nTo benefit from the discounted membership rate\, sign up as a member today! \n\n\n\n\n\n \n\n\n\n\n\nMember Registration!
URL:https://gparmcmidstream.org/event/q1-luncheon/
LOCATION:Fogo De Chao\, 1513 Wynkoop Street\, Denver\, Colorado\, 80202
CATEGORIES:Luncheon
ATTACH;FMTTYPE=image/png:https://gparmcmidstream.org/wp-content/uploads/RMGPA-Rocky-Mountain-GPA-Midstream-2.png
END:VEVENT
BEGIN:VEVENT
DTSTART;TZID=UTC:20250911T110000
DTEND;TZID=UTC:20250911T130000
DTSTAMP:20260424T155320
CREATED:20230209T220802Z
LAST-MODIFIED:20250829T141156Z
UID:2741-1757588400-1757595600@gparmcmidstream.org
SUMMARY:Q3 Luncheon
DESCRIPTION:Join us for our Q3 Luncheon\n\n\n\n\n\nDATE: Thursday\, September 11\, 2025 \n\n\n\nTIME: 11 a.m. to 1 p.m. \n\n\n\nLOCATION: Fogo De Chao – 1513 Wynkoop St\, Denver\, CO  \n\n\n\nSPEAKER: Ron Miller\, Energy Industry Expert \n\n\n\nTOPIC: Fracking’s Impact on Energy Markets and the Environment \n\n\n\nDESCRIPTION: Since 2008\, an outstanding achievement in U.S. energy has occurred with barely a whisper from the news media. Electricity prices have plateaued to a very small annual growth rate\, while at the same time U.S. CO2 emissions have been on a downward trajectory. What is the reason for this monumental\, but un-noticed and un-celebrated change? In this article\, we will look at the three key positive impacts from fracking for the U.S.: 1) lower electricity price inflation rates\, 2) increased natural gas production and more stable gas pricing\, and 3) lower CO2 emissions. \n\n\n\nPricing\n\n\n\n\nMembers – $65\n\n\n\nNon-members – $75\n\n\n\nOn-site registration on September 11th is available for $85 to everyone (members and non-members). On-site registrations are space dependent and are not guaranteed a seat or a meal.\n\n\n\n\nKnow Before You Go\n\n\n\nLunch will be plated (Gluten-free or vegetarian options are available by pre-request. Contact support@gparmcmidstream.org for questions or concerns). Please make sure to register in advance\, as the venue will bill us for every meal we ask them to prepare\, so all luncheon tickets are non-refundable\, even if you do not attend. \n\n\n\n\n\n\n\n\n\nMEMBER REGISTRATION\n\n\n\nLog in at the bottom of this page to register at a discounted rate … or check your email for quick access to member registration. \n\n\n\nNON-MEMBER REGISTRATION\n\n\n\n>> Non-member registration here\n\n\n\nTo benefit from the discounted membership rate\, sign up as a member today! \n\n\n\n\n\n\n\n\n\nAbout the Speaker\n\n\n\nRon Miller is an energy industry expert creating value by analyzing assets\, markets\, technologies\, and power usage to identify\, monetize\, and implement profitable energy and de-carbonization projects. He is a Professional Engineer/MBA/Certified Energy Manager/Renewable Energy Professional experienced in developing and leading global energy projects in the renewable energy\, conventional power\, and fuels industries\, before founding Reliant Energy Solutions LLC. His global energy consultancy provides analysis for energy supply and demand\, energy reliability\, feasibility\, fuel and energy efficiency\, and de-carbonization. He has led energy project development at ExxonMobil\, Xcel Energy\, AECOM\, Rio Tinto\, and Newmont Corporation. Ron holds a BS in Civil Engineering from Virginia Tech and an MBA in Finance from the Terry College of Business at the University of Georgia. \n\n\n\n\n\n\n\n\n\n\n\n\n\n\n\nMembers Register Today!
URL:https://gparmcmidstream.org/event/q3-luncheon/
LOCATION:Fogo De Chao\, 1513 Wynkoop Street\, Denver\, Colorado\, 80202
CATEGORIES:Luncheon
ATTACH;FMTTYPE=image/png:https://gparmcmidstream.org/wp-content/uploads/Q2-1.png
END:VEVENT
BEGIN:VEVENT
DTSTART;TZID=UTC:20250612T110000
DTEND;TZID=UTC:20250612T130000
DTSTAMP:20260424T155320
CREATED:20260123T201526Z
LAST-MODIFIED:20260123T201526Z
UID:5867-1749726000-1749733200@gparmcmidstream.org
SUMMARY:Q1 Luncheon – Save the Date
DESCRIPTION:Join us for our Q1 Luncheon\n\n\n\n\n\nDATE: March 2026 \n\n\n\nTIME: 11 a.m. to 1 p.m. \n\n\n\nLOCATION: Fogo de Chao \n\n\n\nSPEAKER:  TBD \n\n\n\nTOPIC: TBD \n\n\n\n\n\nPricing\n\n\n\n\nMembers – $65\n\n\n\nNon-members – $75\n\n\n\nOn-site registration is available for $85 to everyone (members and non-members). On-site registrations are space dependent and are not guaranteed a seat or a meal.\n\n\n\n\nKnow Before You Go\n\n\n\nLunch will be plated (Gluten-free or vegetarian options are available by pre-request. Contact support@gparmcmidstream.org for questions or concerns). Please make sure to register in advance\, as the venue will bill us for every meal we ask them to prepare\, so all luncheon tickets are non-refundable\, even if you do not attend.
URL:https://gparmcmidstream.org/event/q1-luncheon-save-the-date/
CATEGORIES:Luncheon
END:VEVENT
BEGIN:VEVENT
DTSTART;TZID=UTC:20250612T110000
DTEND;TZID=UTC:20250612T130000
DTSTAMP:20260424T155320
CREATED:20230209T220728Z
LAST-MODIFIED:20250430T201721Z
UID:2738-1749726000-1749733200@gparmcmidstream.org
SUMMARY:Q2 Luncheon
DESCRIPTION:Join us for our Q2 Luncheon\n\n\n\n\n\nDATE: Thursday\, June 12\, 2025 \n\n\n\nTIME: 11 a.m. to 1 p.m. \n\n\n\nLOCATION: Fogo de Chao\, 1513 Wynkoop St. Denver\, CO 80202 \n\n\n\nSPEAKER: Dan Olsen\, Professor of Mechanical Engineering at CSU \n\n\n\nTOPIC: Methane Emissions from Natural gas Engines and how to Mitigate Them \n\n\n\nDESCRIPTION: Natural gas (NG) engines are a critical component of the energy sector\, offering a cleaner alternative to traditional fuels. However\, methane emissions remain a challenge. Methane slip from internal combustion engines is relatively high owing to its low reactivity relative to other hydrocarbon fuels. Methane leakage from compressor packing vents\, blow-downs\, and other sources are also problematic. The focus of this talk is on engine compressor sets and integral compressors\, with an emphasis on lean burn engines. The sources of methane emissions are reviewed\, followed by a discussion of mitigation approaches. \n\n\n\nPricing\n\n\n\n\nMembers – $65\n\n\n\nNon-members – $75\n\n\n\nOn-site registration on June 12th is available for $85 to everyone (members and non-members). On-site registrations are space dependent and are not guaranteed a seat or a meal.\n\n\n\n\nKnow Before You Go\n\n\n\nPLEASE NOTE:  \n\n\n\nLunch will be plated (Gluten-free or vegetarian options are available by pre-request. Contact support@gparmcmidstream.org for questions or concerns). Please make sure to register in advance\, as the venue will bill us for every meal we ask them to prepare\, so all luncheon tickets are non-refundable\, even if you do not attend. \n\n\n\n\n\n\n\n\n\nMEMBER REGISTRATION\n\n\n\nLog in at the bottom of this page to register at a discounted rate … or check your email for quick access to member registration. \n\n\n\nNON-MEMBER REGISTRATION\n\n\n\n>> Non-Members Click here to register\n\n\n\nTo benefit from the discounted membership rate\, sign up as a member today! \n\n\n\n\n\n\n\n\n\nAbout the Speaker\n\n\n\nDaniel Olsen currently is a Professor of Mechanical Engineering at Colorado State University (CSU). Prior to returning to academia in 1996 for a PhD\, he worked in industry as a design engineer for six years. Olsen joined the Mechanical Engineering faculty at Colorado State University in 2006 after working for six years as a Research Scientist at CSU. He teaches undergraduate and graduate courses in the thermal sciences. Olsen’s research at the CSU Powerhouse Energy Campus includes evaluation of engine exhaust aftertreatment systems\, development of new technologies for industrial engines\, and characterization of alternative fuels. \n\n\n\n\n\n\n\n\n\n\n\n\n\n\n\nMembers Register Today!
URL:https://gparmcmidstream.org/event/q2-luncheon/
LOCATION:Fogo De Chao\, 1513 Wynkoop Street\, Denver\, Colorado\, 80202
CATEGORIES:Luncheon
ATTACH;FMTTYPE=image/png:https://gparmcmidstream.org/wp-content/uploads/Q2.png
END:VEVENT
END:VCALENDAR