BEGIN:VCALENDAR
VERSION:2.0
PRODID:-//GPA Midstream Rocky Mountain Chapter - ECPv6.15.20//NONSGML v1.0//EN
CALSCALE:GREGORIAN
METHOD:PUBLISH
X-WR-CALNAME:GPA Midstream Rocky Mountain Chapter
X-ORIGINAL-URL:https://gparmcmidstream.org
X-WR-CALDESC:Events for GPA Midstream Rocky Mountain Chapter
REFRESH-INTERVAL;VALUE=DURATION:PT1H
X-Robots-Tag:noindex
X-PUBLISHED-TTL:PT1H
BEGIN:VTIMEZONE
TZID:UTC
BEGIN:STANDARD
TZOFFSETFROM:+0000
TZOFFSETTO:+0000
TZNAME:UTC
DTSTART:20240101T000000
END:STANDARD
END:VTIMEZONE
BEGIN:VEVENT
DTSTART;TZID=UTC:20250921T070000
DTEND;TZID=UTC:20250921T170000
DTSTAMP:20260425T013721
CREATED:20250307T224129Z
LAST-MODIFIED:20250604T203237Z
UID:4839-1758438000-1758474000@gparmcmidstream.org
SUMMARY:2025 GPA Midstream National Convention – Save the Date
DESCRIPTION:Join us for the 2025 GPA Midstream National Convention\n\n\n\n\n\nDATE: September 21 – 24\, 2025 \n\n\n\nLOCATION: Marriott Rivercenter
URL:https://gparmcmidstream.org/event/national-conference-save-the-date/
LOCATION:Marriott Rivercenter\, 101 Bowie Street\, San Antonio\, Texas\, 78205
CATEGORIES:Conferences
ATTACH;FMTTYPE=image/png:https://gparmcmidstream.org/wp-content/uploads/RMGPA-2025-Event-Templates-30.png
END:VEVENT
BEGIN:VEVENT
DTSTART;TZID=UTC:20250922T170000
DTEND;TZID=UTC:20250922T190000
DTSTAMP:20260425T013721
CREATED:20250819T152124Z
LAST-MODIFIED:20250819T152651Z
UID:5256-1758560400-1758567600@gparmcmidstream.org
SUMMARY:GPA Midstream National Convention Happy Hour
DESCRIPTION:JOIN US FOR HAPPY HOUR AT THE 2025 GPA MIDSTREAM NATIONAL CONVENTION\n\n\n\n\n\nDATE: Monday\, September 22\, 2025 \n\n\n\nWHEN: 5:00 PM – 7:00 PM \n\n\n\nLOCATION: Fogo de Chão Brazilian Steakhouse\, 849 E Commerce St #393\, San Antonio\, TX 78205 \n\n\n\n\n\n\n\n\n\n\n\n\n\nRegister Today!\n\n\n\nThis event is open to Members and Non-Members.
URL:https://gparmcmidstream.org/event/gpa-midstream-national-convention-happy-hour/
LOCATION:Fogo de Chão Brazilian Steakhouse\, 849 E Commerce St #393\, San Antonio\, TX\, 78205\, United States
CATEGORIES:Conferences,Socials & Happy Hours
ATTACH;FMTTYPE=image/png:https://gparmcmidstream.org/wp-content/uploads/RMGPA-2025-Event-Templates-34.png
END:VEVENT
END:VCALENDAR