BEGIN:VCALENDAR
VERSION:2.0
PRODID:-//GPA Midstream Rocky Mountain Chapter - ECPv6.15.20//NONSGML v1.0//EN
CALSCALE:GREGORIAN
METHOD:PUBLISH
X-ORIGINAL-URL:http://gparmcmidstream.org
X-WR-CALDESC:Events for GPA Midstream Rocky Mountain Chapter
REFRESH-INTERVAL;VALUE=DURATION:PT1H
X-Robots-Tag:noindex
X-PUBLISHED-TTL:PT1H
BEGIN:VTIMEZONE
TZID:UTC
BEGIN:STANDARD
TZOFFSETFROM:+0000
TZOFFSETTO:+0000
TZNAME:UTC
DTSTART:20240101T000000
END:STANDARD
END:VTIMEZONE
BEGIN:VEVENT
DTSTART;TZID=UTC:20251107T053000
DTEND;TZID=UTC:20251107T213000
DTSTAMP:20260425T004157
CREATED:20251104T174901Z
LAST-MODIFIED:20251104T175450Z
UID:5430-1762493400-1762551000@gparmcmidstream.org
SUMMARY:Zoo Lights
DESCRIPTION:JOIN US FOR THE 6TH ANNUAL ZOO LIGHTS PREVIEW NIGHT!\n\n\n\nGPARMC is thrilled to partner with the Rocky Mountain Pipeliners Club (RMPC) for the 6th Annual Zoo Lights Preview Night. Join us for a private\, family-friendly event as we get an exclusive look at one of Denver’s most cherished holiday traditions before it opens to the general public. Bring your family and friends for an unforgettable evening of lights\, rides\, and community fun. \n\n\n\nDATE: Friday\, November 7\, 2025 \n\n\n\nLOCATION: Denver Zoo\, 2900 E 23rd Ave\, Denver\, CO 80205 \n\n\n\n\nSIGN UP FOR THIS EVENT TODAY\n\n\n\n\nSponsorship Opportunities\n\n\n\n\nCarousel Sponsors – $1\,000 (3)\n\n\n\nTrain Sponsors – $1\,000 (3)\n\n\n\nSanta Sponsors – $800 (4)\n\n\n\nPhotobooth Sponsors – $800 (4)\n\n\n\nSnack Sponsors – $750 (2)\n\n\n\nHeater Sponsors – $700 (3)\n\n\n\nGlowstick & Hand Warmer Sponsors – $500 (3)\n\n\n\n\nTicket Opportunities\n\n\n\n\n1 Non-member Ticket: $60\n\n\n\n1 Member Ticket: $45\n\n\n\n2 Member Tickets: $75 \n\n\n\n4 Member Tickets: $130\n\n\n\n10 Member Tickets: $340
URL:http://gparmcmidstream.org/event/zoo-lights/
LOCATION:Denver Zoo\, 2900 E 23rd Ave\, Denver\, Colorado\, 80205
CATEGORIES:Fundraising Event,Socials & Happy Hours
ATTACH;FMTTYPE=image/png:http://gparmcmidstream.org/wp-content/uploads/RMGPA-2025-Event-Templates-51.png
END:VEVENT
END:VCALENDAR